BEGIN:VCALENDAR
VERSION:2.0
PRODID:-//LuxFLAG Events - ECPv5.9.1//NONSGML v1.0//EN
CALSCALE:GREGORIAN
METHOD:PUBLISH
X-WR-CALNAME:LuxFLAG Events
X-ORIGINAL-URL:https://luxflagevents.lu
X-WR-CALDESC:Events for LuxFLAG Events
BEGIN:VTIMEZONE
TZID:Europe/Luxembourg
BEGIN:DAYLIGHT
TZOFFSETFROM:+0100
TZOFFSETTO:+0200
TZNAME:CEST
DTSTART:20210328T010000
END:DAYLIGHT
BEGIN:STANDARD
TZOFFSETFROM:+0200
TZOFFSETTO:+0100
TZNAME:CET
DTSTART:20211031T010000
END:STANDARD
END:VTIMEZONE
BEGIN:VEVENT
DTSTART;TZID=Europe/Luxembourg:20211011T090000
DTEND;TZID=Europe/Luxembourg:20211011T100000
DTSTAMP:20211007T054140
CREATED:20210907T072832Z
LAST-MODIFIED:20211006T153025Z
UID:3963-1633942800-1633946400@luxflagevents.lu
SUMMARY:LSIW21 - ABBL - Get prepared to manage ESG-related risks
DESCRIPTION:Please note\, this session will be digital. \n  \nLuxFLAG is pleased to organize a session in partnership with ABBL \nduring the LuxFLAG Sustainable Investment Week: \nMonday 11 October \n9:00 am – 10:00 am \n  \n \n  \nGet prepared to manage ESG-related risks. \nIntroduction to key requirements for the management of climate and ESG-related risks and the existing tools/means for up-skilling relevant staff. \n  \nSpeakers: \n\nLuc Neuberg – Chairman of ALRIM\nJulien Froumouth – ABBL Sustainable Finance Adviser\nMike Felten – Director at Fortuna Banque S.C.\n\n  \n \n  \nMedia Partners: \n         \n  \n 
URL:https://luxflagevents.lu/event/lsiw-keynote-01/
LOCATION:Online
CATEGORIES:LSIW - DAY 1
ATTACH;FMTTYPE=image/png:https://luxflagevents.lu/wp-content/uploads/2021/09/ABBL-LSIW21-2.png
ORGANIZER;CN="LuxFLAG":MAILTO:communications@luxflag.org
END:VEVENT
BEGIN:VEVENT
DTSTART;TZID=Europe/Luxembourg:20211011T090000
DTEND;TZID=Europe/Luxembourg:20211015T123000
DTSTAMP:20211007T054140
CREATED:20210204T142022Z
LAST-MODIFIED:20210922T080627Z
UID:3138-1633942800-1634301000@luxflagevents.lu
SUMMARY:LuxFLAG Sustainable Investment Week 2021
DESCRIPTION:LuxFLAG is pleased to invite you to the third edition of LuxFLAG Sustainable Investment Week (#LSIW21)\, which will be taking place over the course of five days – 11th\, 12th\, 13th\, 14th and 15th of October. #LSIW21 is a series of standalone events which will cover a wide range of topics such as Climate Finance\, ESG\, Impact Investing and Sustainable Development Goals. \n  \n \n  \nMonday 11 October \n9:00 am – 10:00 am / digital / ABBL – Get prepared to manage ESG-related risks \n10:00 am – 11:00 am / digital /  Allen & Overy – ESG\, sustainability and the future of pensions \n11:00 am – 12:00 pm / digital / BNP Paribas Securities Services – Blended Finance \n___ \n2:00 pm – 3:00 pm / digital / VP Bank Luxembourg – Investing for change. Sustainability is key! \n3:00 pm – 4:00 pm / digital / Linklaters LPP – Islamic Finance and Impact Financing \n4:00 pm – 5:00 pm / digital / Fidelity International – Financing Climate Change : What is the role of asset managers? \n  \nTuesday 12 October \n9:00 am – 10:00 am / digital / LIST – more information to come \n10:00 am – 11:00 am / digital / HSBC & Rating-Agentur Expert RA (RAEX-Europe) – Natural Capital \n11:30 am – 12:30 pm / digital and physical / Candriam & Luxembourg Stock Exchange – Oncology and Impact Investment \n___ \n2:00 pm – 3:00 pm / digital / NN Investment Partners – ESG integration within sovereign fixed income \n3:30 pm – 4:30 pm / physical / Morningstar – The EU Sustainable Finance Action Plan \n5:00 pm – 6:00 pm / digital / LuxFLAG – more information to come \n  \nWednesday 13 October \n10:00 am – 11:00 am / digital / Union Investment Luxembourg – Green Transition shaping the future \n11:30 am – 12:30 pm / digital and physical / Edmond de Rothschild – Opportunities and challenges of impact investing \n___ \n1:30 pm – 2:30 pm / digital / Danske Invest Management – The Day After Tomorrow \n3:00 pm – 4:00 pm / digital and physical / Deloitte – ESG data: challenges and opportunities in the evolving landscape \n  \nThursday 14 October \n9:00 am – 10:00 am / digital / Bonn Steichen & Partners – Unveiling the details of sustainable finance regulation: where do we stand\, what to expect\, and how to comply? \n10:00 am – 11:00 am / digital / DPAM – Destination IMPACT. Is SFDR the answer? \n11:00 am – 12:00 pm / digital / Societe Generale Private Banking – How to ride the energy transition investment wave? \n___ \n2:00 pm – 3:00 pm / digital / GSK Stockmann – ESG challenges for your investment process \n3:00 pm – 4:00 pm / digital / State Street Bank International – How is ESG integration consistent with financial market theory and the experience of Alpha generation in portfolio management practice \n4:00 pm – 5:00 pm / digital / Arendt & Medernach – Carbon credits and investment funds \n  \nFriday 15 October \n9:00 am – 10:00 am / digital / FARAD Investment Management – The challenges of ESG reporting \n10:00 am – 11:00 am / digital / Mikro Kapital – Discover Impact investing opportunities along the Silk Road \n11:30 am – 12:30 pm / physical / ING – more information to come \n  \nMedia Partners: \n         \n  \n  \nFind the conference report for #LSIW20: here. \nFind the video for #LSIW20: here.
URL:https://luxflagevents.lu/event/luxflag-sustainable-investment-week-2021/
LOCATION:Online
CATEGORIES:Event
ATTACH;FMTTYPE=image/png:https://luxflagevents.lu/wp-content/uploads/2021/09/LuxFLAG-LSIW21.png
ORGANIZER;CN="LuxFLAG":MAILTO:communications@luxflag.org
END:VEVENT
BEGIN:VEVENT
DTSTART;TZID=Europe/Luxembourg:20211011T100000
DTEND;TZID=Europe/Luxembourg:20211011T110000
DTSTAMP:20211007T054140
CREATED:20210907T111812Z
LAST-MODIFIED:20211006T153015Z
UID:4009-1633946400-1633950000@luxflagevents.lu
SUMMARY:LSIW21 - Allen & Overy - ESG\, sustainability and the future of pensions
DESCRIPTION:Please note\, this session will be digital. \n  \nLuxFLAG is pleased to organize a session in partnership with Allen & Overy \nduring the LuxFLAG Sustainable Investment Week: \nMonday 11 October \n10:00 am – 12:00 am \n  \n \n  \nESG\, sustainability and the future of pensions. \n1. How can SFDR and Taxonomy shape the pension funds and pension products offering.\n2. New investment options for pension funds that take into account SFDR and Taxonomy criteria.\n3. The impact of ESG on the liabilities side of a pension fund.\n4. Introduction to PEPP and its potential contribution to ESG factors. \n  \nSpeakers: \n\nCodrina Constantinescu – Counsel\, Allen & Overy (moderator)\nGerd Gebhard – Directeur Administratif et Commercial\, PECOMA Actuarial and Risk S.A.\nRalph Richards – Senior Project Manager\, Business Development & Consulting\, M&R Partners GmbH\nDr Hans van Meerten – Member OPSG (EIOPA)\nMartin Katheder – Allianz Pension Partners\nCyril Samson – Managing Director at Allianz Global Benefits\n\n  \n \n  \n  \nMedia Partners:
URL:https://luxflagevents.lu/event/esg-sustainability-and-the-future-of-pensions-allen-overy/
LOCATION:Online
CATEGORIES:LSIW - DAY 1
ATTACH;FMTTYPE=image/png:https://luxflagevents.lu/wp-content/uploads/2021/09/Allen-Overy-LSIW21.png
ORGANIZER;CN="LuxFLAG":MAILTO:communications@luxflag.org
END:VEVENT
BEGIN:VEVENT
DTSTART;TZID=Europe/Luxembourg:20211011T110000
DTEND;TZID=Europe/Luxembourg:20211011T120000
DTSTAMP:20211007T054140
CREATED:20210917T133137Z
LAST-MODIFIED:20211006T153035Z
UID:4016-1633950000-1633953600@luxflagevents.lu
SUMMARY:LSIW21 - BNP Paribas - Blended Finance & Private Equity: the Sustainable Development Revolution
DESCRIPTION:Please note\, this session will be digital. \n  \nLuxFLAG is pleased to organize a session in partnership with BNP Paribas \nduring the LuxFLAG Sustainable Investment Week: \nMonday 11 October \n11:00 am – 12:00 pm \n  \n \n  \nBlended Finance & Private Equity: the Sustainable Development Revolution. \nMélanie Hernoult\, Blended Finance specialist at BNP Paribas Corporate Investment Banking will guide you through Blended Finance\, the innovative structuring approach increasing the total amount of resources available to sustainable development projects. Karine Litou\, Co-Head of Private Capital at BNP Paribas Securities Services\, will then discuss the role of the Private Equity industry provide investment that actively contribute to the UN Sustainable Development Goals and provide positive financial returns to investors. \n  \nSpeakers: \n\nKarine Litou – Co-Head of Private Capital\, BNP Paribas Securities Services\nMélanie Hernoult – BNP Paribas – CIB Company Engagement – Blended Finance Project Manager\n\n  \n \n  \n  \nMedia Partners: \n         \n 
URL:https://luxflagevents.lu/event/bnp-paribas-securities-services-blended-finance/
LOCATION:Online
CATEGORIES:LSIW - DAY 1
ATTACH;FMTTYPE=image/png:https://luxflagevents.lu/wp-content/uploads/2021/09/BNP-Paribas-LSIW21.png
ORGANIZER;CN="LuxFLAG":MAILTO:communications@luxflag.org
END:VEVENT
BEGIN:VEVENT
DTSTART;TZID=Europe/Luxembourg:20211011T140000
DTEND;TZID=Europe/Luxembourg:20211011T150000
DTSTAMP:20211007T054140
CREATED:20210917T133146Z
LAST-MODIFIED:20211006T153045Z
UID:4011-1633960800-1633964400@luxflagevents.lu
SUMMARY:LSIW21 - VP Bank Luxembourg - Investing for change. Sustainability is key!
DESCRIPTION:Please note\, this session will be digital. \n  \nLuxFLAG is pleased to organize a session in partnership with VP Bank Luxembourg \nduring the LuxFLAG Sustainable Investment Week: \nMonday 11 October \n2:00 pm – 3:00 pm \n  \n \n  \nInvesting for change. Sustainability is key! \nInvestors are increasingly interested in sustainable investing as evidenced by the record highs reached in sustainable funds in 2020 with over USD 300 billion in new investments according to investment research firm Morningstar.\nDr. Felix Brill\, CIO and president of the Sustainability Board of VP Bank\, will present why VP Bank is convinced that integrating ESG factors into the investment process leads to better decision-making and why sustainability is key to meet the preferences of clients. \nIn 2020 VP Bank launched the “Investing for Change” initiative to actively bring about positive change through sustainable investing. Under this initiative we have developed a sustainability assessment methodology to guide our investment\ndecisions and launched products with an ESG focus. Since 1 January 2021\, we are integrating sustainability risks and opportunities into all investment decisions. Through thematic investing\, we identify future topics\nand companies that are responding to social and environmental changes in a significant way. We do not treat sustainability as a product\, but consistently incorporate it into our investment processes and include it in the portfolio\nconstruction for our discretionary mandates as well as in the advice we provide to our clients. By doing so\, we enable our clients and investors to seize opportunities on the financial market and profit sustainably. \n  \nSpeakers: \n\nWelcome: Alexander Ziehl – Head of Intermediaries Clients of VP Bank (Luxembourg) SA\nSession: Dr. Felix Brill – Chief Investment Officer of VP Bank AG\n\n  \n \n  \n  \nMedia Partners:
URL:https://luxflagevents.lu/event/carbon-credits-and-investment-funds-arendt-medernach/
LOCATION:Online
CATEGORIES:LSIW - DAY 1
ATTACH;FMTTYPE=image/png:https://luxflagevents.lu/wp-content/uploads/2021/09/VP-Bank-Luxembourg-LSIW21.png
ORGANIZER;CN="LuxFLAG":MAILTO:communications@luxflag.org
END:VEVENT
BEGIN:VEVENT
DTSTART;TZID=Europe/Luxembourg:20211011T150000
DTEND;TZID=Europe/Luxembourg:20211011T160000
DTSTAMP:20211007T054140
CREATED:20210917T133202Z
LAST-MODIFIED:20211006T153054Z
UID:4040-1633964400-1633968000@luxflagevents.lu
SUMMARY:LSIW21 - Linklaters LPP - Islamic Finance and Impact Financing
DESCRIPTION:Please note\, this session will be digital. \n  \nLuxFLAG is pleased to organize a session in partnership with Linklaters LPP \nduring the LuxFLAG Sustainable Investment Week: \nMonday 11 October \n3:00 pm – 4:00 pm \n  \n \n  \nIslamic Finance and Impact Financing. \nThe Islamic financial services industry (IFSI) is widely recognised as a place where good practice and ethical behaviour based on Islamic principles is encouraged. Some reports in recent years have suggested that Sharia-compliant investment funds can out-perform similar conventional investment funds in times of market stress.\nToday\, as the world demands greener more sustainable solutions\, Neil Miller (Global Head of Islamic Finance\, Linklaters London) and Victor Louvet (Managing Associate\, Investment Funds\, Linklaters Luxembourg) see an opportunity for greater alignment between Islamic investment parameters and the Sustainable Finance Disclosure Regulation and the Taxonomy Regulation requirements. Can generic Islamic principles applied subjectively around the world ever converge with the objective requirements of Europe’s regulations?\nJoin us to hear how Luxembourg’s growing role in ESG can help provide the right environment. \n  \nSpeakers: \n\nNeil D Miller – Global Head of Islamic Finance\, Linklaters Dubai\, London\nVictor Louvet – Managing Associate\, Linklaters Luxembourg\n\n  \n \n  \n  \nMedia Partners:
URL:https://luxflagevents.lu/event/islamic-finance-and-impact-financing-linklaters-lpp/
LOCATION:Online
CATEGORIES:LSIW - DAY 1
ATTACH;FMTTYPE=image/png:https://luxflagevents.lu/wp-content/uploads/2021/09/Linklaters-LLP-LSIW21-1.png
ORGANIZER;CN="LuxFLAG":MAILTO:communications@luxflag.org
END:VEVENT
BEGIN:VEVENT
DTSTART;TZID=Europe/Luxembourg:20211011T160000
DTEND;TZID=Europe/Luxembourg:20211011T170000
DTSTAMP:20211007T054140
CREATED:20210917T133210Z
LAST-MODIFIED:20211006T153103Z
UID:4013-1633968000-1633971600@luxflagevents.lu
SUMMARY:LSIW21 - Fidelity International - Financing Climate Change : What is the role of asset managers?
DESCRIPTION:Please note\, this session will be digital. \n  \nLuxFLAG is pleased to organize a session in partnership with Fidelity International \nduring the LuxFLAG Sustainable Investment Week: \nMonday 11 October \n4:00 pm – 5:00 pm \n  \n \n  \nFinancing Climate Change : What is the role of asset managers? \nWe face a climate emergency that demands collective action. But persuading an entire world to come together to change ingrained economic and social habits is hard.\nThere is hope\, however. The net zero ambitions of the world’s two largest economies – the US and China – have surpassed the expectations of many in the past 12 months\, and there is real momentum as we approach the UN’s postponed COP26. Many countries and companies around the world are already on a pathway to a lower carbon world and central banks globally are considering their role as well.\nAs stewards of clients’ capital\, asset managers’ role is to ensure that our allocation decisions reflect this urgent need too.\nIn this presentation\, Fidelity Investment Specialists will show you how equities and bonds investments can work together to contribute to this transition to a more sustainable future. \n  \nSpeakers: \n\nCornelia Furse – Portfolio Manager of FF – Sustainable Climate Solutions Fund\nSanela Kevric – Sales Director Luxembourg\n\n  \n \n  \n  \nMedia Partners:
URL:https://luxflagevents.lu/event/fidelity-international-more-information-to-come/
LOCATION:Online
CATEGORIES:LSIW - DAY 1
ATTACH;FMTTYPE=image/png:https://luxflagevents.lu/wp-content/uploads/2021/09/Fidelity-International-LSIW21-1.png
ORGANIZER;CN="LuxFLAG":MAILTO:communications@luxflag.org
END:VEVENT
BEGIN:VEVENT
DTSTART;TZID=Europe/Luxembourg:20211011T170000
DTEND;TZID=Europe/Luxembourg:20211011T180000
DTSTAMP:20211007T054140
CREATED:20210917T133531Z
LAST-MODIFIED:20211006T153112Z
UID:4396-1633971600-1633975200@luxflagevents.lu
SUMMARY:LSIW21 - LuxFLAG & European Court of Auditors - ECA Special Report on Sustainable Finance
DESCRIPTION:Please note\, this session will be digital. \n  \nLuxFLAG is pleased to organize a session \nduring the LuxFLAG Sustainable Investment Week: \nMonday 11 October \n5:00 pm – 6:00 pm \n  \n \n  \n  \nLuxFLAG & European Court of Auditors – ECA Special Report on Sustainable Finance. \nSpecial event sponsored by LuxFLAG.\nStay tuned for more details in the coming days! \n  \nSpeakers: \n\nMs. Eva Lindström\, Member\, European Court of Auditors\nH.E. Pierre Gramegna\, Luxembourg Finance Minister\nMs. Julie Becker\, CEO\, Luxembourg Stock Exchange\n\n  \n \n  \nMedia Partners:
URL:https://luxflagevents.lu/event/luxflag-more-information-to-come/
LOCATION:Online
CATEGORIES:LSIW - DAY 1
ATTACH;FMTTYPE=image/png:https://luxflagevents.lu/wp-content/uploads/2021/09/LuxFLAG-Session-1.png
ORGANIZER;CN="LuxFLAG":MAILTO:communications@luxflag.org
END:VEVENT
END:VCALENDAR