BEGIN:VCALENDAR
VERSION:2.0
PRODID:-//LuxFLAG Events - ECPv5.9.1//NONSGML v1.0//EN
CALSCALE:GREGORIAN
METHOD:PUBLISH
X-WR-CALNAME:LuxFLAG Events
X-ORIGINAL-URL:https://luxflagevents.lu
X-WR-CALDESC:Events for LuxFLAG Events
BEGIN:VTIMEZONE
TZID:Europe/Luxembourg
BEGIN:DAYLIGHT
TZOFFSETFROM:+0100
TZOFFSETTO:+0200
TZNAME:CEST
DTSTART:20210328T010000
END:DAYLIGHT
BEGIN:STANDARD
TZOFFSETFROM:+0200
TZOFFSETTO:+0100
TZNAME:CET
DTSTART:20211031T010000
END:STANDARD
END:VTIMEZONE
BEGIN:VEVENT
DTSTART;TZID=Europe/Luxembourg:20211011T090000
DTEND;TZID=Europe/Luxembourg:20211015T123000
DTSTAMP:20211007T054235
CREATED:20210204T142022Z
LAST-MODIFIED:20210922T080627Z
UID:3138-1633942800-1634301000@luxflagevents.lu
SUMMARY:LuxFLAG Sustainable Investment Week 2021
DESCRIPTION:LuxFLAG is pleased to invite you to the third edition of LuxFLAG Sustainable Investment Week (#LSIW21)\, which will be taking place over the course of five days – 11th\, 12th\, 13th\, 14th and 15th of October. #LSIW21 is a series of standalone events which will cover a wide range of topics such as Climate Finance\, ESG\, Impact Investing and Sustainable Development Goals. \n  \n \n  \nMonday 11 October \n9:00 am – 10:00 am / digital / ABBL – Get prepared to manage ESG-related risks \n10:00 am – 11:00 am / digital /  Allen & Overy – ESG\, sustainability and the future of pensions \n11:00 am – 12:00 pm / digital / BNP Paribas Securities Services – Blended Finance \n___ \n2:00 pm – 3:00 pm / digital / VP Bank Luxembourg – Investing for change. Sustainability is key! \n3:00 pm – 4:00 pm / digital / Linklaters LPP – Islamic Finance and Impact Financing \n4:00 pm – 5:00 pm / digital / Fidelity International – Financing Climate Change : What is the role of asset managers? \n  \nTuesday 12 October \n9:00 am – 10:00 am / digital / LIST – more information to come \n10:00 am – 11:00 am / digital / HSBC & Rating-Agentur Expert RA (RAEX-Europe) – Natural Capital \n11:30 am – 12:30 pm / digital and physical / Candriam & Luxembourg Stock Exchange – Oncology and Impact Investment \n___ \n2:00 pm – 3:00 pm / digital / NN Investment Partners – ESG integration within sovereign fixed income \n3:30 pm – 4:30 pm / physical / Morningstar – The EU Sustainable Finance Action Plan \n5:00 pm – 6:00 pm / digital / LuxFLAG – more information to come \n  \nWednesday 13 October \n10:00 am – 11:00 am / digital / Union Investment Luxembourg – Green Transition shaping the future \n11:30 am – 12:30 pm / digital and physical / Edmond de Rothschild – Opportunities and challenges of impact investing \n___ \n1:30 pm – 2:30 pm / digital / Danske Invest Management – The Day After Tomorrow \n3:00 pm – 4:00 pm / digital and physical / Deloitte – ESG data: challenges and opportunities in the evolving landscape \n  \nThursday 14 October \n9:00 am – 10:00 am / digital / Bonn Steichen & Partners – Unveiling the details of sustainable finance regulation: where do we stand\, what to expect\, and how to comply? \n10:00 am – 11:00 am / digital / DPAM – Destination IMPACT. Is SFDR the answer? \n11:00 am – 12:00 pm / digital / Societe Generale Private Banking – How to ride the energy transition investment wave? \n___ \n2:00 pm – 3:00 pm / digital / GSK Stockmann – ESG challenges for your investment process \n3:00 pm – 4:00 pm / digital / State Street Bank International – How is ESG integration consistent with financial market theory and the experience of Alpha generation in portfolio management practice \n4:00 pm – 5:00 pm / digital / Arendt & Medernach – Carbon credits and investment funds \n  \nFriday 15 October \n9:00 am – 10:00 am / digital / FARAD Investment Management – The challenges of ESG reporting \n10:00 am – 11:00 am / digital / Mikro Kapital – Discover Impact investing opportunities along the Silk Road \n11:30 am – 12:30 pm / physical / ING – more information to come \n  \nMedia Partners: \n         \n  \n  \nFind the conference report for #LSIW20: here. \nFind the video for #LSIW20: here.
URL:https://luxflagevents.lu/event/luxflag-sustainable-investment-week-2021/
LOCATION:Online
CATEGORIES:Event
ATTACH;FMTTYPE=image/png:https://luxflagevents.lu/wp-content/uploads/2021/09/LuxFLAG-LSIW21.png
ORGANIZER;CN="LuxFLAG":MAILTO:communications@luxflag.org
END:VEVENT
BEGIN:VEVENT
DTSTART;TZID=Europe/Luxembourg:20211012T090000
DTEND;TZID=Europe/Luxembourg:20211012T100000
DTSTAMP:20211007T054235
CREATED:20210917T133452Z
LAST-MODIFIED:20211006T153120Z
UID:4062-1634029200-1634032800@luxflagevents.lu
SUMMARY:LSIW21 - LIST - How are regulations and scientific advances changing impact measurement?
DESCRIPTION:Please note\, this session will be digital. \n  \nLuxFLAG is pleased to organize a session in partnership with LIST \nduring the LuxFLAG Sustainable Investment Week: \nTuesday 12 October \n9:00 am – 10:00 am \n  \n \n  \nHow are regulations and scientific advances changing impact measurement? \nWith the Sustainable Finance Disclosure Regulations and ongoing developments in the EU Sustainable Finance Taxonomy\, impact measurement has emerged as the question of the moment. In this session\, we explore the topic of impact measurement from both the regulatory and scientific angle\, discussing how impact measurement is likely to change in the current policy environment and how advances in life cycle assessment and environmental and social impact assessment in general can be applied to sustainable finance. \n  \nSpeakers: \n\nProf. Dr. Marzia Traverso is full professor and head of the Institute of Sustainability in Civil Engineering at RWTH Aachen University. She is an environmental engineer working in the field of life cycle assessment and sustainability performance of the building and transport sectors. She is also Rapparteur of the Technical Working Group of the European Commission’s Platform on Sustainable Finance\, as well as convenor and project leader of the ISO 14075 on social life cycle assessment.\nDr. Ben Allen is Research Director of the Institute for European Environmental Policy (IEEP). He has a PhD in the field of land use and spatial ecology. At IEEP\, Ben has led and contributed to a range of projects related to land use\, bioenergy and agriculture. He has played an integral role in developing the institute’s thinking on EU bioenergy and biofuels policy from a land-use perspective\, with links to the wider bio-economy in a European and global context.\nDr. Claudia Hitaj (moderator) is a research associate at the Luxembourg Institute of Science & Technology in the Life-Cycle Sustainability Assessment group. An environmental economist by training\, her research focuses on sustainable finance\, carbon footprinting\, and energy economics. From 2013-2019 Claudia worked at the Economic Research Service of the US Department of Agriculture. She holds a BA in Economics and Mathematics from Yale University\, an MPhil in Environmental Policy from the University of Cambridge\, and a PhD in Agricultural and Resource Economics from the University of Maryland.\n\n  \n  \n \n  \n  \nMedia Partners:
URL:https://luxflagevents.lu/event/list-more-information-to-come/
LOCATION:Online
CATEGORIES:LSIW - DAY 2
ATTACH;FMTTYPE=image/png:https://luxflagevents.lu/wp-content/uploads/2021/09/LIST-LSIW21-2.png
ORGANIZER;CN="LuxFLAG":MAILTO:communications@luxflag.org
END:VEVENT
BEGIN:VEVENT
DTSTART;TZID=Europe/Luxembourg:20211012T100000
DTEND;TZID=Europe/Luxembourg:20211012T110000
DTSTAMP:20211007T054235
CREATED:20210917T133500Z
LAST-MODIFIED:20211006T153128Z
UID:4066-1634032800-1634036400@luxflagevents.lu
SUMMARY:LSIW21 - HSBC & Rating-Agentur Expert RA (RAEX-Europe) - Natural Capital
DESCRIPTION:Please note\, this session will be digital. \n  \nLuxFLAG is pleased to organize a session in partnership with HSBC & Rating-Agentur Expert RA (RAEX-Europe) \nduring the LuxFLAG Sustainable Investment Week: \nTuesday 12 October \n10:00 am – 11:00 am \n  \n \n  \nNatural Capital. \nMore information to come… \n  \n \n  \n  \nMedia Partners:
URL:https://luxflagevents.lu/event/hsbc-rating-agentur-expert-ra-raex-europe/
LOCATION:Online
CATEGORIES:LSIW - DAY 2
ATTACH;FMTTYPE=image/png:https://luxflagevents.lu/wp-content/uploads/2021/09/HSBC-RAEX-Europe-LSIW21-1.png
ORGANIZER;CN="LuxFLAG":MAILTO:communications@luxflag.org
END:VEVENT
BEGIN:VEVENT
DTSTART;TZID=Europe/Luxembourg:20211012T113000
DTEND;TZID=Europe/Luxembourg:20211012T123000
DTSTAMP:20211007T054235
CREATED:20210917T133508Z
LAST-MODIFIED:20211006T153814Z
UID:4081-1634038200-1634041800@luxflagevents.lu
SUMMARY:LSIW21 - Candriam & Luxembourg Stock Exchange - Oncology Impact: Giving life back
DESCRIPTION:Please note\, this session will be physical and digital. \nFor your information and to respect health measures\, please note that physical places are limited to 50 people. \n  \nLuxFLAG is pleased to organize a session in partnership with Candriam & Luxembourg Stock Exchange \nduring the LuxFLAG Sustainable Investment Week: \nTuesday 12 October \n11:30 am – 12:30 pm \n  \n \n  \nOncology Impact: Giving life back. \nCancer remains the second-leading cause of death globally. As the incidence of cancer increases with age\, its prevalence is unfortunately linked to the ageing of the world’s population. While advances are being made\, the needs and markets for solutions remain large\, creating investment opportunities. Finally\, Candriam hopes to positively contribute to what everyone wants to achieve: make cancer a curable disease! \n  \nSpeakers: \n\nLaetitia Hamon – Head of Sustainable Finance (Luxembourg Stock Exchange)\nKen Van Weyenberg – Senior Client Portfolio Manager – Thematic Global Equity (Candriam)\n\n  \n \n  \n  \nMedia Partners:
URL:https://luxflagevents.lu/event/oncology-and-impact-invesment-candriam-luxembourg-stock-exchange/
LOCATION:Luxembourg Stock Exchange\, 35A Boulevard Joseph ll\, Luxembourg\, L-1840
CATEGORIES:LSIW - DAY 2
ATTACH;FMTTYPE=image/png:https://luxflagevents.lu/wp-content/uploads/2021/09/Candriam-LuxSE-LSIW21-3.png
ORGANIZER;CN="LuxFLAG":MAILTO:communications@luxflag.org
END:VEVENT
BEGIN:VEVENT
DTSTART;TZID=Europe/Luxembourg:20211012T140000
DTEND;TZID=Europe/Luxembourg:20211012T150000
DTSTAMP:20211007T054235
CREATED:20210917T133516Z
LAST-MODIFIED:20211006T153805Z
UID:4068-1634047200-1634050800@luxflagevents.lu
SUMMARY:LSIW21 - NN Investment Partners - ESG integration within sovereign fixed income
DESCRIPTION:Please note\, this session will be digital. \n  \nLuxFLAG is pleased to organize a session in partnership with NN Investment Partners \nduring the LuxFLAG Sustainable Investment Week: \nTuesday 12 October \n2:00 pm – 3:00 pm \n  \n \n  \nESG integration within sovereign fixed income. \nESG integration is increasingly becoming a crucial input across a broad spectrum of investment strategies.\nSo far\, most efforts have been dedicated towards the development of corporate ESG scores. However\, NN Investment Partners now also developed the Sovereign ESG Lens\, a framework dedicated to the ESG assessment of sovereign issuers.  Our approach\, which takes into account a wide range of data points\, enables investors to identify where future risks and opportunities could arise\, as well as how countries are equipped to respond. It also helps standardize data between countries and increases consistency and measurability in investment processes. Want to learn more on how to integrate ESG within sovereign fixed income? Come join the presentation of Mrs. Edith Siermann\, Head of Fixed Income Solutions\, Specialized Fixed Income and Responsible Investing at NN Investment Partners. \nLINK \n  \nSpeaker: \n\nEdith Siermann – Head of Fixed Income Solutions\, Specialized Fixed Income & Responsible Investing\n\n  \n \n  \nMedia Partners: \n         \n 
URL:https://luxflagevents.lu/event/esg-integration-within-sovereign-fixed-income-nn-investment-partners/
LOCATION:Online
CATEGORIES:LSIW - DAY 2
ATTACH;FMTTYPE=image/png:https://luxflagevents.lu/wp-content/uploads/2021/09/NNIP-LSIW21-1.png
ORGANIZER;CN="LuxFLAG":MAILTO:communications@luxflag.org
END:VEVENT
BEGIN:VEVENT
DTSTART;TZID=Europe/Luxembourg:20211012T153000
DTEND;TZID=Europe/Luxembourg:20211012T163000
DTSTAMP:20211007T054235
CREATED:20210917T133522Z
LAST-MODIFIED:20211006T153755Z
UID:4111-1634052600-1634056200@luxflagevents.lu
SUMMARY:LSIW21 - Morningstar - The EU Sustainable Finance Action Plan: 7 months into practice
DESCRIPTION:Please note\, this session will be physical.  \nThis will be a COVID CHECK event. Please bring a certificate in digital form (PDF or QR Code in connection with the European health passport) or in paper form. Participants will be required to present this certificate to hotel staff to certify that they are vaccinated or immunized or tested in a certified manner. \n  \nLuxFLAG is pleased to organize a session in partnership with Morningstar \nduring the LuxFLAG Sustainable Investment Week: \nTuesday 12 October \n3:30 pm – 4:30 pm \n  \n \n  \nThe EU Sustainable Finance Action Plan: 7 months into practice. \nThe implementation of SFDR Level I on the 10th of March marked the first milestone of the EU Sustainable Finance Action Plan. This 10-point action plan aims to leverage financial markets in order to address sustainability challenges\, especially those related to climate change. Now 7 months into practice\, there is still a long journey ahead. \nHow are fund managers going to shape this in their investments\, how can banks and asset managers make this transparent to investors? Join Ita Demyttenaere\, Associate Director\, Client Relations at Sustainalytics\, as he presents his experience to date in advising asset managers in meeting the requirements of the EU Sustainable Finance Action Plan. The main focus will be on the EU Taxonomy and Sustainability Finance Disclosures Regulations (SFDR). \nAmong other things\, the following issues will be discussed: \n\nWhat are the biggest challenges for banks and asset managers?\nWhere do theory and practice diverge?\nWhat can service providers do to help banks and asset managers prepare for January 2022?\n\nSpeaker: \n\nIta Demyttenaere – Associate Director\, Client Relations at Sustainalytics.\n\n  \n \n  \nMedia Partners:
URL:https://luxflagevents.lu/event/morningstar/
LOCATION:Hôtel Novotel Luxembourg Kirchberg\, 6 Rue du Fort Niedergruenewald\, Luxembourg\, L-2226
CATEGORIES:LSIW - DAY 2
ATTACH;FMTTYPE=image/png:https://luxflagevents.lu/wp-content/uploads/2021/09/Morningstar-LSIW21-2.png
ORGANIZER;CN="LuxFLAG":MAILTO:communications@luxflag.org
END:VEVENT
END:VCALENDAR