BEGIN:VCALENDAR
VERSION:2.0
PRODID:-//LuxFLAG Events - ECPv5.9.1//NONSGML v1.0//EN
CALSCALE:GREGORIAN
METHOD:PUBLISH
X-WR-CALNAME:LuxFLAG Events
X-ORIGINAL-URL:https://luxflagevents.lu
X-WR-CALDESC:Events for LuxFLAG Events
BEGIN:VTIMEZONE
TZID:Europe/Luxembourg
BEGIN:DAYLIGHT
TZOFFSETFROM:+0100
TZOFFSETTO:+0200
TZNAME:CEST
DTSTART:20210328T010000
END:DAYLIGHT
BEGIN:STANDARD
TZOFFSETFROM:+0200
TZOFFSETTO:+0100
TZNAME:CET
DTSTART:20211031T010000
END:STANDARD
END:VTIMEZONE
BEGIN:VEVENT
DTSTART;TZID=Europe/Luxembourg:20211011T090000
DTEND;TZID=Europe/Luxembourg:20211015T123000
DTSTAMP:20211007T054425
CREATED:20210204T142022Z
LAST-MODIFIED:20210922T080627Z
UID:3138-1633942800-1634301000@luxflagevents.lu
SUMMARY:LuxFLAG Sustainable Investment Week 2021
DESCRIPTION:LuxFLAG is pleased to invite you to the third edition of LuxFLAG Sustainable Investment Week (#LSIW21)\, which will be taking place over the course of five days – 11th\, 12th\, 13th\, 14th and 15th of October. #LSIW21 is a series of standalone events which will cover a wide range of topics such as Climate Finance\, ESG\, Impact Investing and Sustainable Development Goals. \n  \n \n  \nMonday 11 October \n9:00 am – 10:00 am / digital / ABBL – Get prepared to manage ESG-related risks \n10:00 am – 11:00 am / digital /  Allen & Overy – ESG\, sustainability and the future of pensions \n11:00 am – 12:00 pm / digital / BNP Paribas Securities Services – Blended Finance \n___ \n2:00 pm – 3:00 pm / digital / VP Bank Luxembourg – Investing for change. Sustainability is key! \n3:00 pm – 4:00 pm / digital / Linklaters LPP – Islamic Finance and Impact Financing \n4:00 pm – 5:00 pm / digital / Fidelity International – Financing Climate Change : What is the role of asset managers? \n  \nTuesday 12 October \n9:00 am – 10:00 am / digital / LIST – more information to come \n10:00 am – 11:00 am / digital / HSBC & Rating-Agentur Expert RA (RAEX-Europe) – Natural Capital \n11:30 am – 12:30 pm / digital and physical / Candriam & Luxembourg Stock Exchange – Oncology and Impact Investment \n___ \n2:00 pm – 3:00 pm / digital / NN Investment Partners – ESG integration within sovereign fixed income \n3:30 pm – 4:30 pm / physical / Morningstar – The EU Sustainable Finance Action Plan \n5:00 pm – 6:00 pm / digital / LuxFLAG – more information to come \n  \nWednesday 13 October \n10:00 am – 11:00 am / digital / Union Investment Luxembourg – Green Transition shaping the future \n11:30 am – 12:30 pm / digital and physical / Edmond de Rothschild – Opportunities and challenges of impact investing \n___ \n1:30 pm – 2:30 pm / digital / Danske Invest Management – The Day After Tomorrow \n3:00 pm – 4:00 pm / digital and physical / Deloitte – ESG data: challenges and opportunities in the evolving landscape \n  \nThursday 14 October \n9:00 am – 10:00 am / digital / Bonn Steichen & Partners – Unveiling the details of sustainable finance regulation: where do we stand\, what to expect\, and how to comply? \n10:00 am – 11:00 am / digital / DPAM – Destination IMPACT. Is SFDR the answer? \n11:00 am – 12:00 pm / digital / Societe Generale Private Banking – How to ride the energy transition investment wave? \n___ \n2:00 pm – 3:00 pm / digital / GSK Stockmann – ESG challenges for your investment process \n3:00 pm – 4:00 pm / digital / State Street Bank International – How is ESG integration consistent with financial market theory and the experience of Alpha generation in portfolio management practice \n4:00 pm – 5:00 pm / digital / Arendt & Medernach – Carbon credits and investment funds \n  \nFriday 15 October \n9:00 am – 10:00 am / digital / FARAD Investment Management – The challenges of ESG reporting \n10:00 am – 11:00 am / digital / Mikro Kapital – Discover Impact investing opportunities along the Silk Road \n11:30 am – 12:30 pm / physical / ING – more information to come \n  \nMedia Partners: \n         \n  \n  \nFind the conference report for #LSIW20: here. \nFind the video for #LSIW20: here.
URL:https://luxflagevents.lu/event/luxflag-sustainable-investment-week-2021/
LOCATION:Online
CATEGORIES:Event
ATTACH;FMTTYPE=image/png:https://luxflagevents.lu/wp-content/uploads/2021/09/LuxFLAG-LSIW21.png
ORGANIZER;CN="LuxFLAG":MAILTO:communications@luxflag.org
END:VEVENT
BEGIN:VEVENT
DTSTART;TZID=Europe/Luxembourg:20211014T090000
DTEND;TZID=Europe/Luxembourg:20211014T100000
DTSTAMP:20211007T054425
CREATED:20210917T134554Z
LAST-MODIFIED:20211006T153714Z
UID:4018-1634202000-1634205600@luxflagevents.lu
SUMMARY:LSIW21 - Bonn Steichen & Partners - Unveiling the details of sustainable finance regulation: where do we stand\, what to expect\, and how to comply?
DESCRIPTION:Please note\, this session will be digital. \n  \nLuxFLAG is pleased to organize a session in partnership with Bonn Steichen & Partners \nduring the LuxFLAG Sustainable Investment Week: \nThursday 14 October \n9:00 am – 10:00 am \n  \n \n  \nUnveiling the details of sustainable finance regulation: where do we stand\, what to expect\, and how to comply? \nOur purpose: Deep diving in the upcoming sustainable finance regulation requirements\nEnvironmental\, Social\, Governance (ESG) regulation is constantly evolving and representing an increasing challenge for the financial sector. The creation of a standardized framework for such regulations has been undertaken by the European Commission these past two years\, in particular through its Taxonomy regulation and Sustainable finance Disclosure Regulation (SFDR). In upcoming years\, new regulation will disrupt the way funds disclose and verify their ESG data. Keeping up with the legislative landscape and compliance requirements will become an essential driver for funds oriented towards sustainability. \nOur insights: Sharing views and our expertise\nThis session aims to provide you with some key insights on how to apply these regulation requirements successfully. During the session\, our speakers will dive into the regulatory aspects of ESG and sustainable finance\, and their timeline to guide the investment community through the upcoming changes. We will share views on the reporting challenges and opportunities\, showing a specific example from an asset manager. Finally\, a special focus will be made on the periodic reporting under SFDR requirements and the related Regulatory Technical Standards (RTS)\, and the EU Taxonomy. \n  \nSpeakers: \n\nVanessa Müller – ESG services leader | Partner\, Ernst & Young Business Advisory Services S.à r.l. Luxembourg\nSinor Chhor – Managing Director\, Nordea | Asset Management | Nordea lnvestment Funds S.A.\nIsabel Høg-Jensen – Counsel\, Responsible for Sustainable Finance\, BSP | Bonn Steichen & Partners\n\n  \n \n  \nMedia Partners:
URL:https://luxflagevents.lu/event/unveiling-the-details-of-sustainable-finance-regulation-where-do-we-stand-what-to-expect-and-how-to-comply-bonn-steichen-partners/
LOCATION:Online
CATEGORIES:LSIW - DAY 4
ATTACH;FMTTYPE=image/png:https://luxflagevents.lu/wp-content/uploads/2021/09/Bonn-Steichen-Partners-LSIW21-1.png
ORGANIZER;CN="LuxFLAG":MAILTO:communications@luxflag.org
END:VEVENT
BEGIN:VEVENT
DTSTART;TZID=Europe/Luxembourg:20211014T100000
DTEND;TZID=Europe/Luxembourg:20211014T110000
DTSTAMP:20211007T054425
CREATED:20210917T134607Z
LAST-MODIFIED:20211006T153704Z
UID:4020-1634205600-1634209200@luxflagevents.lu
SUMMARY:LSIW21 - DPAM - Destination IMPACT. Is SFDR the answer?
DESCRIPTION:Please note\, this session will be digital. \n  \nLuxFLAG is pleased to organize a session in partnership with DPAM \nduring the LuxFLAG Sustainable Investment Week: \nThursday 14 October \n10:00 am – 11:00 am \n  \n \n  \nDestination IMPACT. Is SFDR the answer? \nSRI has accomplished a long journey since inception; from exclusions and reputation risk to materiality to nowadays ESG impact and positive contribution to the society. The question now is how to overhaul lack of indicators and complexity of the calculations to measure impact?\nEU regulatory efforts aim at this impact creation\, but what is the tangible result so far? \n  \nSpeaker: \n\nOphélie Mortier – Responsible Investment Strategist at DPAM\n\n  \n \n  \nMedia Partners:
URL:https://luxflagevents.lu/event/destination-impact-is-sfdr-the-answer-degroof-petercam-asset-management/
LOCATION:Online
CATEGORIES:LSIW - DAY 4
ATTACH;FMTTYPE=image/png:https://luxflagevents.lu/wp-content/uploads/2021/09/DPAM-LSIW21.png
ORGANIZER;CN="LuxFLAG":MAILTO:communications@luxflag.org
END:VEVENT
BEGIN:VEVENT
DTSTART;TZID=Europe/Luxembourg:20211014T110000
DTEND;TZID=Europe/Luxembourg:20211014T120000
DTSTAMP:20211007T054425
CREATED:20210917T134619Z
LAST-MODIFIED:20211006T153654Z
UID:4022-1634209200-1634212800@luxflagevents.lu
SUMMARY:LSIW21 - Societe Generale Private Banking - How to ride the energy transition investment wave?
DESCRIPTION:Please note\, this session will be digital. \n  \nLuxFLAG is pleased to organize a session in partnership with Societe Generale Private Banking \nduring the LuxFLAG Sustainable Investment Week: \nThursday 14 October \n11:00 am – 12:00 pm \n  \n \n  \nHow to ride the energy transition investment wave? \nFinancial institutions have a leading role to play in supporting more sustainable and inclusive development models. By directing the investment flows\, they can accompany the emergence of the new growth drivers. The energy transition is at the crossroads of many different realities for individuals\, corporates\, public entities in developed economies as well as in emerging countries. While focused initially on reducing climate change\, these investments can also create positive impacts at many different levels and help to solve additional issues\, from regenerating nature to improving social well-being and reducing inequalities. \nOn top of renewable energy\, key growth areas and large capex requirements will come from increased use of green hydrogen\, the pick up of the electric mobility value chain and the multitude of investments required in energy efficiency for buildings and industries. Other trends are at the corner and will pursue this investment continuum dynamic. \nInterested in these topics ? Join us for this conference. Our experts will discuss the following agenda : \n1) Investing in leaders in energy transition: decode the positive actions.\n2) Financing infrastructure and energy projects for a sustainable future.\n3) Exploring the energy transition in frontier markets with a mutli-impact approach. \nYour connection can also be an action. Société Générale Private banking\, in partnership with MyTree\, will plant one tree for each participant to our session. \n  \nSpeakers: \n\nMarie-Aimée Boury – Head of Impact Based Finance\, Société Générale\nEric Bonnin – Head of Oil and Gas Industry Group\, Société Générale\nPetra Besson Fencikova – Head of ESG investments\, Société Générale Private Banking Luxembourg\nAlexandre Cegarra – Managing Director & CEO at SGPWM\n\n  \n \n  \nMedia Partners:
URL:https://luxflagevents.lu/event/how-to-ride-the-energy-transition-investment-wave-societe-generale-private-wealth-management/
LOCATION:Online
CATEGORIES:LSIW - DAY 4
ATTACH;FMTTYPE=image/png:https://luxflagevents.lu/wp-content/uploads/2021/09/Societe-Generale-Private-Banking-LSIW21.png
ORGANIZER;CN="LuxFLAG":MAILTO:communications@luxflag.org
END:VEVENT
BEGIN:VEVENT
DTSTART;TZID=Europe/Luxembourg:20211014T140000
DTEND;TZID=Europe/Luxembourg:20211014T150000
DTSTAMP:20211007T054425
CREATED:20210917T134627Z
LAST-MODIFIED:20211006T153315Z
UID:4024-1634220000-1634223600@luxflagevents.lu
SUMMARY:LSIW21 - GSK Stockmann - ESG challenges for your investment process
DESCRIPTION:Please note\, this session will be digital. \n  \nLuxFLAG is pleased to organize a session in partnership with GSK Stockmann \nduring the LuxFLAG Sustainable Investment Week: \nThursday 14 October \n2:00 pm – 3:00 pm \n  \n \n  \nESG challenges for your investment process. \nMore information to come… \nSpeakers: \n\nIrina Stoliarova – Senior Associate at GSK Stockmann in Luxembourg (moderator)\nFlavia Micilotta – TMF Group\, Director ESG Solutions\, Funds Services\, Global Solutions at TMF Group\nAurélien Roelens – CAIA\,  Cube Infrastructure Managers\, Investment Director & ESG Coordinator\nJustus Wiedemann – Quantrefy\, Founder & CEO\n\n  \n \n  \nMedia Partners:
URL:https://luxflagevents.lu/event/gsk-stockmann/
LOCATION:Online
CATEGORIES:LSIW - DAY 4
ATTACH;FMTTYPE=image/png:https://luxflagevents.lu/wp-content/uploads/2021/09/GSK-Stockmann-LSIW21-1.png
ORGANIZER;CN="LuxFLAG":MAILTO:communications@luxflag.org
END:VEVENT
BEGIN:VEVENT
DTSTART;TZID=Europe/Luxembourg:20211014T150000
DTEND;TZID=Europe/Luxembourg:20211014T160000
DTSTAMP:20211007T054425
CREATED:20210917T134634Z
LAST-MODIFIED:20211006T153305Z
UID:4026-1634223600-1634227200@luxflagevents.lu
SUMMARY:LSIW21 - State Street Bank International - How is ESG integration consistent with financial market theory and the experience of Alpha generation in portfolio management practice
DESCRIPTION:Please note\, this session will be digital. \n  \nLuxFLAG is pleased to organize a session in partnership with State Street Bank International \nduring the LuxFLAG Sustainable Investment Week: \nThursday 14 October \n3:00 pm – 4:00 pm \n  \n \n  \nHow is ESG integration consistent with financial market theory and the experience of Alpha generation in portfolio management practice. \nOne of the most common challenges for portfolio managers seeking to integrate ESG factors into their investment decisions is understanding whether ESG might dampen portfolio returns.\nIn this session we will explore market efficiencies and the theoretical impacts of ESG strategies\, together with a practical view on how asset managers deal with the equation of generating alpha and respecting their environmental\, social and governance (ESG) ambitions. \n  \nSpeakers: \n\nRick Lacaille – State Street\, Senior Investment Advisor and Global Head of ESG\nMichael Halling – University of Luxembourg\, Professor of Finance\nNicola Cortassa – Eurizon Capital SA\, Senior Portfolio Manager – US and European Equity\nRemi Olu-Pitan – Multi Asset Fund Manager\, Schroders\n\n  \n \n  \n  \nMedia Partners:
URL:https://luxflagevents.lu/event/how-is-esg-integration-consistent-with-financial-market-theory-and-the-experience-of-alpha-generation-in-portfolio-management-practice-state-street-bank-international/
LOCATION:Online
CATEGORIES:LSIW - DAY 4
ATTACH;FMTTYPE=image/png:https://luxflagevents.lu/wp-content/uploads/2021/09/State-Street-Bank-International-LSIW21-1.png
ORGANIZER;CN="LuxFLAG":MAILTO:communications@luxflag.org
END:VEVENT
BEGIN:VEVENT
DTSTART;TZID=Europe/Luxembourg:20211014T160000
DTEND;TZID=Europe/Luxembourg:20211014T170000
DTSTAMP:20211007T054425
CREATED:20210917T134645Z
LAST-MODIFIED:20211006T153256Z
UID:4115-1634227200-1634230800@luxflagevents.lu
SUMMARY:LSIW21 - Arendt & Medernach - Carbon credits and investment funds
DESCRIPTION:Please note\, this session will be digital. \n  \nLuxFLAG is pleased to organize a session in partnership with Candriam & Luxembourg Stock Exchange \nduring the LuxFLAG Sustainable Investment Week: \nThursday 14 October \n4:00 pm – 5:00 pm \n  \n \n  \nCarbon credits and investment funds. \nMore information to come… \n  \nSpeakers: \n\nAntoine Peter – Manager chez Arendt Regulatory & Consulting S.A.\nValérian de Jamblinne de Meux – Advisor chez Arendt Regulatory & Consulting S.A. specializing in sustainable finance solutions\n\n  \n \n  \nMedia Partners:
URL:https://luxflagevents.lu/event/carbon-credits-and-investment-funds-arendt-medernach-2/
LOCATION:Online
CATEGORIES:LSIW - DAY 4
ATTACH;FMTTYPE=image/png:https://luxflagevents.lu/wp-content/uploads/2021/09/Arendt-Medernach-LSIW21.png
ORGANIZER;CN="LuxFLAG":MAILTO:communications@luxflag.org
END:VEVENT
END:VCALENDAR