BEGIN:VCALENDAR
VERSION:2.0
PRODID:-//LuxFLAG Events - ECPv5.7.0//NONSGML v1.0//EN
CALSCALE:GREGORIAN
METHOD:PUBLISH
X-WR-CALNAME:LuxFLAG Events
X-ORIGINAL-URL:https://luxflagevents.lu
X-WR-CALDESC:Events for LuxFLAG Events
BEGIN:VTIMEZONE
TZID:Europe/Luxembourg
BEGIN:DAYLIGHT
TZOFFSETFROM:+0100
TZOFFSETTO:+0200
TZNAME:CEST
DTSTART:20210328T010000
END:DAYLIGHT
BEGIN:STANDARD
TZOFFSETFROM:+0200
TZOFFSETTO:+0100
TZNAME:CET
DTSTART:20211031T010000
END:STANDARD
END:VTIMEZONE
BEGIN:VEVENT
DTSTART;TZID=Europe/Luxembourg:20211109T100000
DTEND;TZID=Europe/Luxembourg:20211109T104500
DTSTAMP:20210723T102906
CREATED:20210518T130019Z
LAST-MODIFIED:20210518T130427Z
UID:3557-1636452000-1636454700@luxflagevents.lu
SUMMARY:LuxFLAG Label Information Session
DESCRIPTION:Are you an Asset Manager or an ESG enthusiast wondering how LuxFLAG Labels works? Join us for the LuxFLAG Label Information Session on Tuesday November 9\, from 10:00 a.m. to 10:45 a.m. to understand how the LuxFLAG labelling process works and how the LuxFLAG label criteria have evolved with SFDR. \n 
URL:https://luxflagevents.lu/event/luxflag-label-information-session-3/
LOCATION:Online
ATTACH;FMTTYPE=image/jpeg:https://luxflagevents.lu/wp-content/uploads/2021/05/6Event-image-size-1280-x-675-pixels-With-Ribbon-v3.jpg
ORGANIZER;CN="LuxFLAG":MAILTO:communications@luxflag.org
END:VEVENT
END:VCALENDAR