BEGIN:VCALENDAR
VERSION:2.0
PRODID:-//LuxFLAG Events - ECPv5.9.1//NONSGML v1.0//EN
CALSCALE:GREGORIAN
METHOD:PUBLISH
X-WR-CALNAME:LuxFLAG Events
X-ORIGINAL-URL:https://luxflagevents.lu
X-WR-CALDESC:Events for LuxFLAG Events
BEGIN:VTIMEZONE
TZID:Europe/Luxembourg
BEGIN:DAYLIGHT
TZOFFSETFROM:+0100
TZOFFSETTO:+0200
TZNAME:CEST
DTSTART:20210328T010000
END:DAYLIGHT
BEGIN:STANDARD
TZOFFSETFROM:+0200
TZOFFSETTO:+0100
TZNAME:CET
DTSTART:20211031T010000
END:STANDARD
END:VTIMEZONE
BEGIN:VEVENT
DTSTART;VALUE=DATE:20211117
DTEND;VALUE=DATE:20211120
DTSTAMP:20211007T052034
CREATED:20210923T123554Z
LAST-MODIFIED:20210923T124946Z
UID:4796-1637107200-1637366399@luxflagevents.lu
SUMMARY:European Microfinance Week 2021
DESCRIPTION:The past 15 months have been very challenging and during this time we at e-MFP have engaged with our members and friends and adapted our activities accordingly to best mitigate the effects this pandemic brings to our sector and the vulnerable people we as a community serve. \nOne of our flagship activities is European Microfinance Week held annually in November and while it is difficult to predict the progression of the pandemic\, it remains likely that travel restrictions will still apply in the coming months and that participants from the global South will be unable to come to Luxembourg during the conference period. In order to ensure an international conference with the participation of stakeholders from all around the world\, e-MFP has therefore decided to organise European Microfinance Week 2021 virtually\, 17 to 19 November\, building on the excellent experience from the 2020 edition. \n 
URL:https://luxflagevents.lu/event/european-microfinance-week-2021/
LOCATION:Online
ATTACH;FMTTYPE=image/jpeg:https://luxflagevents.lu/wp-content/uploads/2021/09/Event-image-size-1280-x-675-pixels-1.jpg
ORGANIZER;CN="European%20Microfinance%20Platform":MAILTO:contact@e-mfp.eu
END:VEVENT
END:VCALENDAR