BEGIN:VCALENDAR
VERSION:2.0
PRODID:-//LuxFLAG Events - ECPv5.7.0//NONSGML v1.0//EN
CALSCALE:GREGORIAN
METHOD:PUBLISH
X-WR-CALNAME:LuxFLAG Events
X-ORIGINAL-URL:https://luxflagevents.lu
X-WR-CALDESC:Events for LuxFLAG Events
BEGIN:VTIMEZONE
TZID:Europe/Luxembourg
BEGIN:DAYLIGHT
TZOFFSETFROM:+0100
TZOFFSETTO:+0200
TZNAME:CEST
DTSTART:20210328T010000
END:DAYLIGHT
BEGIN:STANDARD
TZOFFSETFROM:+0200
TZOFFSETTO:+0100
TZNAME:CET
DTSTART:20211031T010000
END:STANDARD
END:VTIMEZONE
BEGIN:VEVENT
DTSTART;TZID=Europe/Luxembourg:20211011T080000
DTEND;TZID=Europe/Luxembourg:20211015T220000
DTSTAMP:20210723T103035
CREATED:20210204T142022Z
LAST-MODIFIED:20210226T135946Z
UID:3138-1633939200-1634335200@luxflagevents.lu
SUMMARY:LuxFLAG Sustainable Investment Week 2021
DESCRIPTION:LuxFLAG is pleased to invite you to the third edition of LuxFLAG Sustainable Investment Week (#LSIW21)\, which will be taking place over the course of five days – 11th\, 12th\, 13th\, 14th and 15th of October. #LSIW21 is a series of standalone events which will cover a wide range of topics such as Climate Finance\, ESG\, Impact Investing and Sustainable Development Goals. \n  \nFind the conference report for #LSIW20: here. \nFind the video for #LSIW20: here.
URL:https://luxflagevents.lu/event/luxflag-sustainable-investment-week-2021/
ATTACH;FMTTYPE=image/jpeg:https://luxflagevents.lu/wp-content/uploads/2021/02/LSIW21.jpg
ORGANIZER;CN="LuxFLAG":MAILTO:communications@luxflag.org
LOCATION:
END:VEVENT
END:VCALENDAR