BEGIN:VCALENDAR
VERSION:2.0
PRODID:-//LuxFLAG Events - ECPv5.9.1//NONSGML v1.0//EN
CALSCALE:GREGORIAN
METHOD:PUBLISH
X-WR-CALNAME:LuxFLAG Events
X-ORIGINAL-URL:https://luxflagevents.lu
X-WR-CALDESC:Events for LuxFLAG Events
BEGIN:VTIMEZONE
TZID:Europe/Luxembourg
BEGIN:DAYLIGHT
TZOFFSETFROM:+0100
TZOFFSETTO:+0200
TZNAME:CEST
DTSTART:20200329T010000
END:DAYLIGHT
BEGIN:STANDARD
TZOFFSETFROM:+0200
TZOFFSETTO:+0100
TZNAME:CET
DTSTART:20201025T010000
END:STANDARD
END:VTIMEZONE
BEGIN:VEVENT
DTSTART;TZID=Europe/Luxembourg:20200923T120000
DTEND;TZID=Europe/Luxembourg:20200923T130000
DTSTAMP:20211009T001451
CREATED:20210118T125323Z
LAST-MODIFIED:20210118T125323Z
UID:2530-1600862400-1600866000@luxflagevents.lu
SUMMARY:Why 'green' and 'good' funds are growing - Delano Live Chat with Denise Voss\, Chairwoman of LuxFLAG
DESCRIPTION:Sustainable and responsible investment funds are a relatively small but flourishing part of the financial sector. \nAnd the category is promising. Investors placed €54.6bn in European sustainable funds during the second quarter of 2020\, up from €26bn the previous quarter\, according to the research firm Morningstar. \nWhy? \nDenise Voss\, chairwoman of LuxFLAG\, an outfit that checks fund managers’ sustainable and responsible investing claims\, will address that question during this Delano Live Chat. \nVoss will demystify “ESG”\, discuss the new EU sustainable finance taxonomy\, and explain why the sector is becoming increasingly important to the Luxembourg fund industry. Plus she will provide a preview of Luxflag’s upcoming conference. \nIn addition to chairing Luxflag\, Voss is an independent board director. She previously chaired the Association of the Luxembourg Fund Industry and served as a conducting officer for Franklin Templeton in Luxembourg. \nVoss will speak with Delano’s Aaron Grunwald and also take audience questions.
URL:https://luxflagevents.lu/event/why-green-and-good-funds-are-growing-delano-live-chat-with-denise-voss-chairwoman-of-luxflag/
ATTACH;FMTTYPE=image/jpeg:https://luxflagevents.lu/wp-content/uploads/2021/01/Blue-image.jpg
END:VEVENT
END:VCALENDAR