BEGIN:VCALENDAR
VERSION:2.0
PRODID:-//LuxFLAG Events - ECPv5.9.1//NONSGML v1.0//EN
CALSCALE:GREGORIAN
METHOD:PUBLISH
X-WR-CALNAME:LuxFLAG Events
X-ORIGINAL-URL:https://luxflagevents.lu
X-WR-CALDESC:Events for LuxFLAG Events
BEGIN:VTIMEZONE
TZID:Europe/Luxembourg
BEGIN:DAYLIGHT
TZOFFSETFROM:+0100
TZOFFSETTO:+0200
TZNAME:CEST
DTSTART:20210328T010000
END:DAYLIGHT
BEGIN:STANDARD
TZOFFSETFROM:+0200
TZOFFSETTO:+0100
TZNAME:CET
DTSTART:20211031T010000
END:STANDARD
END:VTIMEZONE
BEGIN:VEVENT
DTSTART;VALUE=DATE:20210615
DTEND;VALUE=DATE:20210617
DTSTAMP:20211009T010221
CREATED:20210112T141247Z
LAST-MODIFIED:20210114T183017Z
UID:2218-1623715200-1623887999@luxflagevents.lu
SUMMARY:European Development Days
DESCRIPTION:In light of the COVID-19 pandemic and after careful consideration\, the European Commission’s Directorate-General for International Cooperation and Development has decided to postpone the 14th edition of the European Development Days. The next edition of the European Development Days will take place on 15-16 June 2021 in Brussels. We reaffirm our commitment to the EU’s Green Deal and will maintain the theme ‘The Green Deal for a Sustainable Future’.  The ongoing programme submission process will be concluded and results communicated to stakeholders in the coming weeks. The European Commission invites all partners to continue their strong engagement with the event and will work towards ensuring an even greater level of participation in June 2021. We extend our thanks for your input and support for the event to date.  Our main concern is to protect everyone’s health\, ensure maximum attendance and allow due preparation for the event. Our thoughts are with all those affected by the crisis. \nRead more here
URL:https://luxflagevents.lu/event/european-development-days/
CATEGORIES:Event
ATTACH;FMTTYPE=image/png:https://luxflagevents.lu/wp-content/uploads/2021/01/Event-image-size-1280-x-675-pixels-With-Ribbon-v3.png
ORGANIZER;CN="EDD":MAILTO:EuropeAid-EDD2020@ec.europa.eu
END:VEVENT
END:VCALENDAR