BEGIN:VCALENDAR
VERSION:2.0
PRODID:-//LuxFLAG Events - ECPv5.9.1//NONSGML v1.0//EN
CALSCALE:GREGORIAN
METHOD:PUBLISH
X-WR-CALNAME:LuxFLAG Events
X-ORIGINAL-URL:https://luxflagevents.lu
X-WR-CALDESC:Events for LuxFLAG Events
BEGIN:VTIMEZONE
TZID:Europe/Luxembourg
BEGIN:DAYLIGHT
TZOFFSETFROM:+0100
TZOFFSETTO:+0200
TZNAME:CEST
DTSTART:20210328T010000
END:DAYLIGHT
BEGIN:STANDARD
TZOFFSETFROM:+0200
TZOFFSETTO:+0100
TZNAME:CET
DTSTART:20211031T010000
END:STANDARD
END:VTIMEZONE
BEGIN:VEVENT
DTSTART;TZID=Europe/Luxembourg:20210602T120000
DTEND;TZID=Europe/Luxembourg:20210602T133000
DTSTAMP:20211009T000919
CREATED:20210506T140716Z
LAST-MODIFIED:20210520T143851Z
UID:3464-1622635200-1622640600@luxflagevents.lu
SUMMARY:How to transition towards increased sustainability
DESCRIPTION:Throughout this session\, different players active in the field of sustainable finance will exchange views and deep dive into best practices\, use-cases and investment strategies\, showcasing how it is possible to transition within various asset classes and areas of expertise. \nFormat: \nThis online event will consist of a moderated panel followed by a Q&A session. It is directed to finance professionals that would like to go a step forward on their sustainability journey. \nMain topics: \n\nCharacteristics of a sustainable finance product.\nBest-practices and use cases: tips to transition (project selection\, investment strategies\, measurements\, reporting…).\nMarket context: how these products perform\, what is the market demand and how they are evolving.\nImpact: How to assess and recognise the impact.\nThe webinar will take place via Zoom and the login details will be sent to the registered participants closer to the date via email.\n\nAbout the Luxembourg Sustainable Finance Initiative: \nThe LSFI is public-private association founded in January 2020 by the Ministry of Finance\, Ministry of Environment\, Climate and Sustainable Development\, Luxembourg for Finance and Conseil supérieur pour un développement durable. We aim to raise awareness\, promote and help develop sustainable finance initiatives\, to be a central point of contact for all sustainable finance actors and to support Luxembourg’s role as international hub for sustainable finance. We also elaborate and implement the Luxembourg Sustainable Finance Strategy. \n 
URL:https://luxflagevents.lu/event/uncovering-sustainable-finance-how-to-transition-towards-increased-sustainability/
LOCATION:Online
ATTACH;FMTTYPE=image/jpeg:https://luxflagevents.lu/wp-content/uploads/2021/05/Event-image-size-1280-x-675-pixels.jpg
ORGANIZER;CN="LSFI":MAILTO:info@lsfi.lu
END:VEVENT
END:VCALENDAR