BEGIN:VCALENDAR
VERSION:2.0
PRODID:-//LuxFLAG Events - ECPv5.9.1//NONSGML v1.0//EN
CALSCALE:GREGORIAN
METHOD:PUBLISH
X-WR-CALNAME:LuxFLAG Events
X-ORIGINAL-URL:https://luxflagevents.lu
X-WR-CALDESC:Events for LuxFLAG Events
BEGIN:VTIMEZONE
TZID:Europe/Luxembourg
BEGIN:DAYLIGHT
TZOFFSETFROM:+0100
TZOFFSETTO:+0200
TZNAME:CEST
DTSTART:20210328T010000
END:DAYLIGHT
BEGIN:STANDARD
TZOFFSETFROM:+0200
TZOFFSETTO:+0100
TZNAME:CET
DTSTART:20211031T010000
END:STANDARD
END:VTIMEZONE
BEGIN:VEVENT
DTSTART;VALUE=DATE:20210223
DTEND;VALUE=DATE:20210224
DTSTAMP:20211009T010122
CREATED:20210118T092306Z
LAST-MODIFIED:20210118T093502Z
UID:2456-1614038400-1614124799@luxflagevents.lu
SUMMARY:ESG: une tendance durable dans la gestion d'actifs
DESCRIPTION:Une tendance durable dans la gestion d’actifs: Que ce soit pour des raisons marketings ou du fait d’exigence réglementaire\, la prise en compte des facteurs ESG dans la gestion d’actifs devient l’un des éléments clefs de l’offre de produit. Durant ce petit-déjeuner\, nous vous présenterons le panorama réglementaire s’appliquant aux gestionnaires d’actifs dans ce cadre. \nSpeakers: Mathieu Scodellaro & Sébastien Beck \nLanguage: French \nRead more here
URL:https://luxflagevents.lu/event/esg-une-tendance-durable-dans-la-gestion-dactifs/
ATTACH;FMTTYPE=image/jpeg:https://luxflagevents.lu/wp-content/uploads/2021/01/Event-image-size-1280-x-675-pixels-With-Ribbon.jpg
END:VEVENT
END:VCALENDAR