BEGIN:VCALENDAR
VERSION:2.0
PRODID:-//LuxFLAG Events - ECPv5.9.1//NONSGML v1.0//EN
CALSCALE:GREGORIAN
METHOD:PUBLISH
X-WR-CALNAME:LuxFLAG Events
X-ORIGINAL-URL:https://luxflagevents.lu
X-WR-CALDESC:Events for LuxFLAG Events
BEGIN:VTIMEZONE
TZID:Europe/Luxembourg
BEGIN:DAYLIGHT
TZOFFSETFROM:+0100
TZOFFSETTO:+0200
TZNAME:CEST
DTSTART:20210328T010000
END:DAYLIGHT
BEGIN:STANDARD
TZOFFSETFROM:+0200
TZOFFSETTO:+0100
TZNAME:CET
DTSTART:20211031T010000
END:STANDARD
END:VTIMEZONE
BEGIN:VEVENT
DTSTART;VALUE=DATE:20210316
DTEND;VALUE=DATE:20210320
DTSTAMP:20211008T233929
CREATED:20210118T091110Z
LAST-MODIFIED:20210226T132059Z
UID:2444-1615852800-1616198399@luxflagevents.lu
SUMMARY:ALFI European Asset Management Conference
DESCRIPTION:Save the Date for the annual meeting of the world’s leading alternative investments community. \nThe ALFI European Asset Management Conference is the annual professional meeting of the European asset management community. Its 2021 edition will run over four days\, from 16 to 19 March 2021\, as a virtual event. \nThe ALFI online event platform allows asset managers and investors to meet with fund selectors\, administrators\, regulators and other investment fund experts to share their insights. \nThey will analyse and debate where the industry stands before the backdrop of the Covid-19 pandemic and Brexit\, and the impact of other geopolitical and macroeconomic factors on the world of the investment fund and its various asset classes. \nTuesday\, 16 March 2021\nAsset management: meeting the needs of all investors \nWednesday\, 17 March 2021\nAsset management: offering access to all asset classes \nThursday\, 18 March 2021\nAsset management: regulators and regulation \nFriday\, 19 March 2021\nAsset management: a focus on strategy \nRegistration and more details coming soon!
URL:https://luxflagevents.lu/event/alfi-alfi-european-asset-management-conference/
LOCATION:Online
ATTACH;FMTTYPE=image/jpeg:https://luxflagevents.lu/wp-content/uploads/2021/01/Event-image-size-1280-x-675-pixels-With-Ribbon-v2.jpg
END:VEVENT
BEGIN:VEVENT
DTSTART;TZID=Europe/Luxembourg:20210318T090000
DTEND;TZID=Europe/Luxembourg:20210318T180000
DTSTAMP:20211008T233929
CREATED:20210111T124704Z
LAST-MODIFIED:20210312T103337Z
UID:2043-1616058000-1616090400@luxflagevents.lu
SUMMARY:European Finance Summit
DESCRIPTION:The European Finance Summit is the main gathering for financial professionals to share their best practices\, analyse international financial markets & trends\, review the relationships between Fin and Reg- tech. It gives the participants the opportunity to build strategic roadmaps in terms of tax\, treasury and compliance reporting\, go in depth with current asset management\, funds\, (private) banking\, treasury\, regulation topics. This event contributes to guide financial professionals to the next level in a more technologic and customer-centric world. It is the perfect place to network with peers and future business partners. \n \nLuxFLAG General Manager\, Sachin Vankalas\, will be speaking a session titled “Round table: The need for a green recovery” at 09:30 a.m. and will be moderating a session titled “Round table: Different shades of ESG” on 18 March at 02:50 p.m.
URL:https://luxflagevents.lu/event/european-finance-summit/
LOCATION:Online
ATTACH;FMTTYPE=image/jpeg:https://luxflagevents.lu/wp-content/uploads/2021/01/Event-image-size-1280-x-675-pixels-With-Ribbon-v2-1.jpg
ORGANIZER;CN="European%20Finance%20Summit":MAILTO:team@europeanfinancesummit.com
END:VEVENT
BEGIN:VEVENT
DTSTART;VALUE=DATE:20210413
DTEND;VALUE=DATE:20210423
DTSTAMP:20211008T233929
CREATED:20210225T110856Z
LAST-MODIFIED:20210331T084207Z
UID:3186-1618272000-1619135999@luxflagevents.lu
SUMMARY:Sustainable Investment Forum Europe 2021
DESCRIPTION:4 Part Digital Event Series – 13th\, 15th\, 20th\, 22nd April 2021 \nThe 4th annual Sustainable Investment Forum Europe returns in April 2021 as a 4-part digital event series across 2 weeks. \nThe Forum will convene over 1\,850 asset owners and investment managers\, institutional investors\, pension funds\, banks\, development banks\, policymakers\, think tanks and NGOs to continue to build the momentum for sustainable finance and responsible investment. \nDelivered on a sophisticated digital event platform\, the Forum will encourage debate in a dynamic\, engaging\, and interactive way. \nWhy attend? \n\nLearn how investors are aligning with climate goals\nEngage and network with a range of asset owners\, asset managers and senior policy makers\nHear from influential speakers who will share views on how Europe’s sustainable finance market is progressing\nExplore and compare sustainability strategies\n\nKey Speakers:  \n\nMagnus Billing\, CEO\, Alecta\nValentijn van Nieuwenhuijzen\, Chief Investment Officer\, NN Investment Partners\nNicholas Pfaff\, Managing Director & Head of Sustainable Finance\, ICMA \nEva Halvarsson\, CEO\, AP2\nChris Faint Head of Department\, Climate & Small Mutuals Division\, Bank of England\nJoël Prohin\, Head of Investment Management Department\, Asset Management Division\, Caisse des dépôt\nHeike Reichelt\, Head of investor relations and sustainable finance\, World Bank\nCarine Smith Ihenacho\, Chief Governance & Compliance Officer\, Norges Bank Investment Management\n\nHow to Register: \nYou can register online here. Contact Rachel Cooper directly if you have any questions on +44 (0) 207 871 0173 or email at rcooper@climateaction.org \n  \nLuxFLAG General Manager\, Sachin Vankalas\, will be speaking/moderating a session titled “Meeting the UN SDGs in a post COVID recovery: what are the hidden costs of going green? Can Europe pave the way to a sustainable recovery beyond COVID-19 and will a Biden Presidency augment the sustainable investment landscape in Europe and beyond?” on 22 April at 12:20 p.m. \n 
URL:https://luxflagevents.lu/event/sustainable-investment-forum-europe-2021/
LOCATION:Online
ATTACH;FMTTYPE=image/jpeg:https://luxflagevents.lu/wp-content/uploads/2021/02/Event-image-size-1280-x-675-pixels-With-Ribbon-v2-2.jpg
END:VEVENT
BEGIN:VEVENT
DTSTART;TZID=Europe/Luxembourg:20210413T153000
DTEND;TZID=Europe/Luxembourg:20210413T170000
DTSTAMP:20211008T233929
CREATED:20210111T124849Z
LAST-MODIFIED:20210414T121525Z
UID:2047-1618327800-1618333200@luxflagevents.lu
SUMMARY:ESG Data Life Cycle from Companies to Asset Managers
DESCRIPTION:Join us on 13th April for the #LuxFLAG Sustainable Finance Webinar series\, focused on “ESG Data Life Cycle from Companies to Asset Managers”. \nESG data has come to the forefront due to changing investment trends and upcoming new disclosure requirements. At present\, available ESG data is wide and disperse and that detailed disclosure data and third-party assessments need to be combined to gather sufficient insight which can be used in the investment process and decisions. How can it be done? \nThis webinar will take place in partnership with OTCFin and RAEX Europe. \nPartners: \n  \n   \n  \nSpeakers: \n\nEe Wah Lim: Head of Product Development. Ms. Lim oversees development of OTCFin’s PATOne EDM platform and the company’s Risk and Regulatory Reporting Services team.  She has worked directly with traditional and alternative asset managers over 18 years to help them automate\, scale and enhance their investment and risk management processes to achieve greater transparency and efficiencies. She has also helped clients fulfill their regulatory reporting requirements such as for AIFMD\, Form PF/Form ADV\, Solvency II\, Basel-related templates\, UCITS KIIDs and PRIIPs KIDs.  Recently\, she is leading the company’s platform enhancements on the topic of ESG data integration and reporting alongside financial data. Ms. Lim holds a BSc in Finance & Information Systems\, with concentration in Operations Management from NYU Stern School of Business.\n\nEe Wah Lim \n  \n\nSvetlana Grishankova: Managing director of Rating-Agentur Expert RA GmbH since 2013. She holds BSc degrees from the Higher School of Economics in Moscow and University of London\, as well as MSc degree in Finance and Economics from the London School of Economics. Svetlana has been working in private equity in London and following that held leading positions in a number of investment projects in fields of construction\, real estate\, retail and IT with wide geographic scope (UK\, Switzerland\, Germany\, Russia). She was managing the rating activity in Europe of RAEX (Moscow) and then fully involved in the foundation of Rating-Agentur Expert RA GmbH in Frankfurt being responsible for the strategy and development of the agency\, including its process of obtaining ESMA registration.\n\nSvetlana Grishankova \n  \n\nCarlo Houblie: Commercial Director at Luxembourg Stock Exchange. Carlo is an expert in Sales and Commercial Direction\, which he has honed through extensive industry experience both in Luxembourg and his studies further afield. As the Commercial Director of the Luxembourg Stock Exchange\, Carlo brings his innovative and client centric approach to clients and issuers of LuxSE’s leading listing venue. Having studied in Villa Arson\, Nice and ICART School of Art and Culture in Paris\, Carlo has since turned his creative eye to a number of roles within Luxembourg including a 13-year role as of Executive Vice President of Cetrel Securities.\n\nCarlo Houblie \n  \nCovered topics: \n\nData collection process of ESG data.\nAddress challenge of short-listing key and material data points from a large number of data points.\nApproach of ESG data integration within an enterprise-wide reporting database to produce fund and enterprise-level aggregated reports and monitors that also integrates with traditional financial factors.
URL:https://luxflagevents.lu/event/luxflag-sustainabe-finance-webinar-data/
LOCATION:Online
CATEGORIES:Webinar
ATTACH;FMTTYPE=image/jpeg:https://luxflagevents.lu/wp-content/uploads/2021/01/2Event-image-size-1280-x-675-pixels-With-Ribbon-v3.jpg
ORGANIZER;CN="LuxFLAG":MAILTO:communications@luxflag.org
END:VEVENT
BEGIN:VEVENT
DTSTART;TZID=Europe/Luxembourg:20210518T110000
DTEND;TZID=Europe/Luxembourg:20210518T114500
DTSTAMP:20211008T233929
CREATED:20210503T121508Z
LAST-MODIFIED:20210512T073001Z
UID:3445-1621335600-1621338300@luxflagevents.lu
SUMMARY:LuxFLAG Label Information Session
DESCRIPTION:Are you an Asset Manager or an ESG enthusiast wondering how LuxFLAG Labels works? Join us for the LuxFLAG Label Information Session on Tuesday May 18\, from 11:00 a.m. to 11:45 a.m. to understand how the LuxFLAG labelling process works and how the LuxFLAG label criteria have evolved with SFDR. \n 
URL:https://luxflagevents.lu/event/luxflag-label-information-session/
LOCATION:Online
ATTACH;FMTTYPE=image/jpeg:https://luxflagevents.lu/wp-content/uploads/2021/05/Event-image-size-1280-x-675-pixels-With-Ribbon-v3.jpg
ORGANIZER;CN="LuxFLAG":MAILTO:communications@luxflag.org
END:VEVENT
BEGIN:VEVENT
DTSTART;VALUE=DATE:20210524
DTEND;VALUE=DATE:20210527
DTSTAMP:20211008T233929
CREATED:20210225T140210Z
LAST-MODIFIED:20210226T153049Z
UID:3194-1621814400-1622073599@luxflagevents.lu
SUMMARY:Impact Investor Forum
DESCRIPTION:The inaugural Impact Investor Forum 2021 will bring together 300 private market impact professionals for a virtual experience on 24-26 May. \n\n\nThe forum will mobilise private market institutions to engage with the growing momentum in impact investments and allocations. Hear from industry leaders and exchange best practices with your peers\, so you can deliver private equity returns alongside creating scalable\, positive change. \n\n\nConnect with institutional investors\, specialist impact managers\, general fund managers and the wider private markets community for three days of networking at the must-attend event for impact investment professionals. \n\n 
URL:https://luxflagevents.lu/event/impact-investor-forum/
LOCATION:Online
ATTACH;FMTTYPE=image/jpeg:https://luxflagevents.lu/wp-content/uploads/2021/02/PEIMediaGroup.jpg
END:VEVENT
BEGIN:VEVENT
DTSTART;TZID=Europe/Luxembourg:20210602T120000
DTEND;TZID=Europe/Luxembourg:20210602T133000
DTSTAMP:20211008T233929
CREATED:20210506T140716Z
LAST-MODIFIED:20210520T143851Z
UID:3464-1622635200-1622640600@luxflagevents.lu
SUMMARY:How to transition towards increased sustainability
DESCRIPTION:Throughout this session\, different players active in the field of sustainable finance will exchange views and deep dive into best practices\, use-cases and investment strategies\, showcasing how it is possible to transition within various asset classes and areas of expertise. \nFormat: \nThis online event will consist of a moderated panel followed by a Q&A session. It is directed to finance professionals that would like to go a step forward on their sustainability journey. \nMain topics: \n\nCharacteristics of a sustainable finance product.\nBest-practices and use cases: tips to transition (project selection\, investment strategies\, measurements\, reporting…).\nMarket context: how these products perform\, what is the market demand and how they are evolving.\nImpact: How to assess and recognise the impact.\nThe webinar will take place via Zoom and the login details will be sent to the registered participants closer to the date via email.\n\nAbout the Luxembourg Sustainable Finance Initiative: \nThe LSFI is public-private association founded in January 2020 by the Ministry of Finance\, Ministry of Environment\, Climate and Sustainable Development\, Luxembourg for Finance and Conseil supérieur pour un développement durable. We aim to raise awareness\, promote and help develop sustainable finance initiatives\, to be a central point of contact for all sustainable finance actors and to support Luxembourg’s role as international hub for sustainable finance. We also elaborate and implement the Luxembourg Sustainable Finance Strategy. \n 
URL:https://luxflagevents.lu/event/uncovering-sustainable-finance-how-to-transition-towards-increased-sustainability/
LOCATION:Online
ATTACH;FMTTYPE=image/jpeg:https://luxflagevents.lu/wp-content/uploads/2021/05/Event-image-size-1280-x-675-pixels.jpg
ORGANIZER;CN="LSFI":MAILTO:info@lsfi.lu
END:VEVENT
BEGIN:VEVENT
DTSTART;TZID=Europe/Luxembourg:20210602T163000
DTEND;TZID=Europe/Luxembourg:20210602T173000
DTSTAMP:20211008T233929
CREATED:20210601T081942Z
LAST-MODIFIED:20210601T082629Z
UID:3616-1622651400-1622655000@luxflagevents.lu
SUMMARY:“How Green is my "Green" investment?"
DESCRIPTION:Programme:​ \n4:30pm: Introduction by Niccolo Polli\, CEO of HSBC Luxembourg\, \n4:35pm: Panel discussion \n\nJulie Becker\, CEO\, Luxembourg Stock Exchange\nPatrick Wood Uribe\, CEO\, Util\nXavier Desmadryl\, Global Head of ESG Research\, HSBC Asset Management\nModerator: Niccolo Polli\, CEO of HSBC Luxembourg\n\n5:10pm: Q&A with Denise Voss\, Chairwoman\, LuxFLAG and Niccolo Polli \n5:20pm: Q&A with the Panelists \n5:30pm: Closing remarks Niccolo Polli\, CEO of HSBC Luxembourg \n  \nLuxFLAG Chairwoman\, Denise Voss\, will be speaking a session panel titled “How Green is my “Green” investment?” on 02 June at 04:30 p.m. \n 
URL:https://luxflagevents.lu/event/esg-square-e-conference-how-green-is-my-green-investment/
LOCATION:Online
ATTACH;FMTTYPE=image/jpeg:https://luxflagevents.lu/wp-content/uploads/2021/06/Event-image-size-1280-x-675-pixels-With-Ribbon-v2.jpg
END:VEVENT
BEGIN:VEVENT
DTSTART;TZID=Europe/Luxembourg:20210603T160000
DTEND;TZID=Europe/Luxembourg:20210603T170000
DTSTAMP:20211008T233929
CREATED:20210517T131046Z
LAST-MODIFIED:20210517T131622Z
UID:3538-1622736000-1622739600@luxflagevents.lu
SUMMARY:SFDR : Facilitating the implementation
DESCRIPTION:This webinar will help you better understand the practical context of the Sustainable Finance Disclosure Regulation. \nThe webinar will provide attendees with : \n\nAn overview of the SFDR and its implications for sustainable finance.\nThe experience of financial sector leaders on the topic.\nThe challenges related to the implementation of the regulation for the financial sector.\n\nLuxFLAG General Manager\, Sachin Vankalas\, will be speaking a session panel titled “SFDR : Facilitating the implementation” on 03 June at 04:00 p.m. \n 
URL:https://luxflagevents.lu/event/sfdr-facilitating-the-implementation/
LOCATION:Online
ATTACH;FMTTYPE=image/jpeg:https://luxflagevents.lu/wp-content/uploads/2021/05/3Event-image-size-1280-x-675-pixels-With-Ribbon-v2.jpg
ORGANIZER;CN="Reply":MAILTO:info@reply.com
END:VEVENT
BEGIN:VEVENT
DTSTART;VALUE=DATE:20210615
DTEND;VALUE=DATE:20210616
DTSTAMP:20211008T233929
CREATED:20210506T142126Z
LAST-MODIFIED:20210506T142126Z
UID:3480-1623715200-1623801599@luxflagevents.lu
SUMMARY:European Risk Management Conference
DESCRIPTION:The 15th edition of the European Risk Management Conference is coming on 15 June 2021 in a virtual format. \nAs per last year\, we are delivering the full programme of this major ALFI event directly to all of you\, live-streamed from Luxembourg. \nThe virtual format will provide anyone with the opportunity to participate\, learn\, and engage as if you were in the room with us. \nHighlights of the programme include: \n\nViews of international policymakers and the CSSF on key policy actions which are relevant to all risk management professionals;\nDebates on the SFDR and the Taxonomy Regulation: a real game changer for risk managers\, who must embed all new requirements in risk management\nPanel discussions on key developments (operational as well as regulatory) of interest to the risk management community.\n\nPlease note that this event is closed for press. \n 
URL:https://luxflagevents.lu/event/european-risk-management-conference/
LOCATION:Online
ATTACH;FMTTYPE=image/jpeg:https://luxflagevents.lu/wp-content/uploads/2021/02/Event-image-size-1280-x-675-pixels-With-Ribbon-v2-1.jpg
END:VEVENT
BEGIN:VEVENT
DTSTART;TZID=Europe/Luxembourg:20210615T160000
DTEND;TZID=Europe/Luxembourg:20210615T170000
DTSTAMP:20211008T233929
CREATED:20210601T080810Z
LAST-MODIFIED:20210601T080810Z
UID:3613-1623772800-1623776400@luxflagevents.lu
SUMMARY:European sustainable funds study 2021: a presentation of key findings
DESCRIPTION:The European sustainable funds study 2021 commissioned by ALFI and carried out by Morningstar and zeb\, provides a snapshot of the recent investment and regulatory trends in sustainable funds in Luxembourg and other European fund domiciles. The webinar will showcase the exponential growth of sustainable funds across Europe and in Luxembourg in particular\, drilling down into the different categories of sustainable/ESG funds\, the type of asset classes which have been successful in attracting net new money\, and the respective attractiveness of active and passive strategies. A summary of the current regulatory developments in Europe (SFRD\, Taxonomy\, NFRD/CSRD) will be provided in the introduction. \n 
URL:https://luxflagevents.lu/event/european-sustainable-funds-study-2021-a-presentation-of-key-findings/
LOCATION:Online
ATTACH;FMTTYPE=image/jpeg:https://luxflagevents.lu/wp-content/uploads/2021/06/Event-image-size-1280-x-675-pixels.jpg
END:VEVENT
BEGIN:VEVENT
DTSTART;TZID=Europe/Luxembourg:20210616T170000
DTEND;TZID=Europe/Luxembourg:20210616T180000
DTSTAMP:20211008T233929
CREATED:20210615T150641Z
LAST-MODIFIED:20210615T150641Z
UID:3819-1623862800-1623866400@luxflagevents.lu
SUMMARY:ESG investment strategies: A hedge fund manager’s view
DESCRIPTION:How does a quantitative asset management firm integrate ESG in its asset selection and ownership decisions? Tobias Ettlin\, Partner at ONE group solutions\, will interview Lukasz Pomorski\, Head of ESG research at AQR Capital Management\, a global investment management firm\, about practical implications of these questions. \nThe event is held under the Chatham House rules. \n 
URL:https://luxflagevents.lu/event/esg-investment-strategies-a-hedge-fund-managers-view/
LOCATION:Online
ATTACH;FMTTYPE=image/jpeg:https://luxflagevents.lu/wp-content/uploads/2021/06/Event-image-size-1280-x-675-pixels-2.jpg
END:VEVENT
BEGIN:VEVENT
DTSTART;TZID=Europe/Luxembourg:20210701T123000
DTEND;TZID=Europe/Luxembourg:20210701T140000
DTSTAMP:20211008T233929
CREATED:20210610T081030Z
LAST-MODIFIED:20210610T081107Z
UID:3489-1625142600-1625148000@luxflagevents.lu
SUMMARY:Myth and Reality: Returns of Sustainable Investment Strategies
DESCRIPTION:The House for Sustainable Governance and Markets (HSGM) at the Faculty of Law\, Economics and Finance of the University of Luxembourg and the Luxembourg Sustainable Finance Initiative (LSFI) are pleased to invite you on Thursday\, 1st July from 12:30 to 14:00 (CET) to their online event “Myth and Reality: Returns of Sustainable Investment Strategies”. \nThis event is the second one of the series of webinars “Luxembourg Sustainable Finance Seminar Series” organised by HSGM and the LSFI and that will take place in 2021. This session will focus on Returns of Sustainable Investment Strategies\, uncovering myth and reality. \n 
URL:https://luxflagevents.lu/event/luxembourg-sustainable-finance-seminar-series-session-2/
LOCATION:Online
ATTACH;FMTTYPE=image/jpeg:https://luxflagevents.lu/wp-content/uploads/2021/06/Event-image-size-1280-x-675-pixels-1.jpg
ORGANIZER;CN="LSFI":MAILTO:info@lsfi.lu
END:VEVENT
BEGIN:VEVENT
DTSTART;VALUE=DATE:20210921
DTEND;VALUE=DATE:20210923
DTSTAMP:20211008T233929
CREATED:20210628T150017Z
LAST-MODIFIED:20210917T134023Z
UID:3825-1632182400-1632355199@luxflagevents.lu
SUMMARY:Global Distribution Conference
DESCRIPTION:A standing item in many a fund professional’s agendas\, the Global Distribution Conference focuses on global distribution\, Luxembourg’s core specialism. Hosted in partnership with Nicsa\, the US National Investment Company Service Association\, and HKIFA\, the Hong Kong Investment Funds Association\, it brings together major fund distributors and asset managers from around the globe. \nThis year the virtual edition of the event will be held on 21 & 22 September. \n 
URL:https://luxflagevents.lu/event/global-distribution-conference/
LOCATION:Online
ATTACH;FMTTYPE=image/jpeg:https://luxflagevents.lu/wp-content/uploads/2021/06/aEvent-image-size-1280-x-675-pixels.jpg
END:VEVENT
END:VCALENDAR